BEGIN:VCALENDAR
VERSION:2.0
PRODID:-//eventon.com NONSGML v1.0//EN
CALSCALE:GREGORIAN
METHOD:PUBLISH
BEGIN:VEVENT
UID:69e75111a341c
DTSTAMP:20260421T102729Z
DTSTART:20250719T030000Z
DTEND:20250719T040000Z
LOCATION:
SUMMARY:Alejandra Guzmán en la Arena Monterrey
DESCRIPTION:Las características del evento pueden variar y dependen del pr
 omotor contratante.\nhttps://cocodiazbooking.com/events/alejandra-guzman-2/
URL:https://cocodiazbooking.com/events/alejandra-guzman-2/
END:VEVENT
END:VCALENDAR